BEGIN:VCALENDAR
VERSION:2.0
PRODID:-//Abap - ECPv4.5.10.1//NONSGML v1.0//EN
CALSCALE:GREGORIAN
METHOD:PUBLISH
X-WR-CALNAME:Abap
X-ORIGINAL-URL:https://www.abap.ch
X-WR-CALDESC:Events for Abap
BEGIN:VEVENT
DTSTART;TZID=Europe/Zurich:20260817T183000
DTEND;TZID=Europe/Zurich:20260817T203000
DTSTAMP:20260425T111230
CREATED:20201204T105913Z
LAST-MODIFIED:20251211T143011Z
UID:3562-1786991400-1786998600@www.abap.ch
SUMMARY:Besichtigung Galenica
DESCRIPTION:U8\, Hauptsitz Galenica\nUntermattweg 8\, 3027 Bern \nArchitekten: GWJ Architektur \n
URL:https://www.abap.ch/veranstaltungen/abapero-24/
LOCATION:Untermattweg 8\, Bern\, 3027\, Schweiz
ATTACH;FMTTYPE=image/jpeg:https://www.abap.ch/wp-content/uploads/2020/12/GWJ_U8_BP-VISU-sued.jpg
END:VEVENT
END:VCALENDAR